BEGIN:VCALENDAR
VERSION:2.0
PRODID:-//Zemědělský týdeník - ECPv5.1.5//NONSGML v1.0//EN
CALSCALE:GREGORIAN
METHOD:PUBLISH
X-WR-CALNAME:Zemědělský týdeník
X-ORIGINAL-URL:https://zemedelskytydenik.cz
X-WR-CALDESC:Akce na Zemědělský týdeník
BEGIN:VTIMEZONE
TZID:Europe/Paris
BEGIN:DAYLIGHT
TZOFFSETFROM:+0100
TZOFFSETTO:+0200
TZNAME:CEST
DTSTART:20170326T010000
END:DAYLIGHT
BEGIN:STANDARD
TZOFFSETFROM:+0200
TZOFFSETTO:+0100
TZNAME:CET
DTSTART:20171029T010000
END:STANDARD
END:VTIMEZONE
BEGIN:VEVENT
DTSTART;TZID=Europe/Paris:20170109T090000
DTEND;TZID=Europe/Paris:20170109T170000
DTSTAMP:20260420T072836
CREATED:20161215T130426Z
LAST-MODIFIED:20161215T130426Z
UID:3511-1483952400-1483981200@zemedelskytydenik.cz
SUMMARY:Sympozium DowAgro
DESCRIPTION:Zveme akci pozvanka-da \n
URL:https://zemedelskytydenik.cz/akce/sympozium-dowagro-5/
LOCATION:Praha 6 – Suchdol\, ČZU\, Praha 6 - Suchdol
CATEGORIES:Rostlinná výroba
END:VEVENT
END:VCALENDAR