BEGIN:VCALENDAR
VERSION:2.0
PRODID:-//Zemědělský týdeník - ECPv5.1.5//NONSGML v1.0//EN
CALSCALE:GREGORIAN
METHOD:PUBLISH
X-WR-CALNAME:Zemědělský týdeník
X-ORIGINAL-URL:https://zemedelskytydenik.cz
X-WR-CALDESC:Akce na Zemědělský týdeník
BEGIN:VTIMEZONE
TZID:Europe/Paris
BEGIN:DAYLIGHT
TZOFFSETFROM:+0100
TZOFFSETTO:+0200
TZNAME:CEST
DTSTART:20170326T010000
END:DAYLIGHT
BEGIN:STANDARD
TZOFFSETFROM:+0200
TZOFFSETTO:+0100
TZNAME:CET
DTSTART:20171029T010000
END:STANDARD
END:VTIMEZONE
BEGIN:VEVENT
DTSTART;TZID=Europe/Paris:20170510T090000
DTEND;TZID=Europe/Paris:20170510T170000
DTSTAMP:20260420T061117
CREATED:20170425T105516Z
LAST-MODIFIED:20170425T105516Z
UID:4015-1494406800-1494435600@zemedelskytydenik.cz
SUMMARY:Regionální kolo jízdy zručnosti Sušice
DESCRIPTION:Zveme na akci\n \n
URL:https://zemedelskytydenik.cz/akce/regionalni-kolo-jizdy-zrucnosti-susice/
LOCATION:Sušice\, SOŠ a SOU Sušice\, Sušice
CATEGORIES:Mechanizace
END:VEVENT
END:VCALENDAR