BEGIN:VCALENDAR
VERSION:2.0
PRODID:-//Zemědělský týdeník - ECPv5.1.5//NONSGML v1.0//EN
CALSCALE:GREGORIAN
METHOD:PUBLISH
X-WR-CALNAME:Zemědělský týdeník
X-ORIGINAL-URL:https://zemedelskytydenik.cz
X-WR-CALDESC:Akce na Zemědělský týdeník
BEGIN:VTIMEZONE
TZID:Europe/Prague
BEGIN:DAYLIGHT
TZOFFSETFROM:+0100
TZOFFSETTO:+0200
TZNAME:CEST
DTSTART:20200329T010000
END:DAYLIGHT
BEGIN:STANDARD
TZOFFSETFROM:+0200
TZOFFSETTO:+0100
TZNAME:CET
DTSTART:20201025T010000
END:STANDARD
END:VTIMEZONE
BEGIN:VEVENT
DTSTART;VALUE=DATE:20200601
DTEND;VALUE=DATE:20200701
DTSTAMP:20260425T111546
CREATED:20200525T093419Z
LAST-MODIFIED:20200525T093419Z
UID:8518-1590969600-1593561599@zemedelskytydenik.cz
SUMMARY:NAŠE POLE 2020
DESCRIPTION:
URL:https://zemedelskytydenik.cz/akce/nase-pole-2020/
LOCATION:Nabočany\, Nabočany\, Pardubický\, 53862\, Česká republika
CATEGORIES:Mechanizace,Rostlinná výroba
ATTACH;FMTTYPE=image/jpeg:https://zemedelskytydenik.cz/wp-content/uploads/DSC_0017.jpg
END:VEVENT
END:VCALENDAR