BEGIN:VCALENDAR
VERSION:2.0
PRODID:-//Zemědělský týdeník - ECPv5.1.5//NONSGML v1.0//EN
CALSCALE:GREGORIAN
METHOD:PUBLISH
X-WR-CALNAME:Zemědělský týdeník
X-ORIGINAL-URL:https://zemedelskytydenik.cz
X-WR-CALDESC:Akce na Zemědělský týdeník
BEGIN:VTIMEZONE
TZID:Europe/Paris
BEGIN:DAYLIGHT
TZOFFSETFROM:+0100
TZOFFSETTO:+0200
TZNAME:CEST
DTSTART:20160327T010000
END:DAYLIGHT
BEGIN:STANDARD
TZOFFSETFROM:+0200
TZOFFSETTO:+0100
TZNAME:CET
DTSTART:20161030T010000
END:STANDARD
END:VTIMEZONE
BEGIN:VEVENT
DTSTART;TZID=Europe/Paris:20160922T080000
DTEND;TZID=Europe/Paris:20160922T170000
DTSTAMP:20260419T121105
CREATED:20160916T065304Z
LAST-MODIFIED:20160916T065321Z
UID:3215-1474531200-1474563600@zemedelskytydenik.cz
SUMMARY:DEŇ POĽA KUKURICE
DESCRIPTION:zveme na akciu\n \n
URL:https://zemedelskytydenik.cz/akce/den-pola-kukurice/
LOCATION:Selice\, Sekice\, Slovensko
CATEGORIES:Mechanizace
END:VEVENT
END:VCALENDAR