BEGIN:VCALENDAR
VERSION:2.0
PRODID:-//Zemědělský týdeník - ECPv5.1.5//NONSGML v1.0//EN
CALSCALE:GREGORIAN
METHOD:PUBLISH
X-WR-CALNAME:Zemědělský týdeník
X-ORIGINAL-URL:https://zemedelskytydenik.cz
X-WR-CALDESC:Akce na Zemědělský týdeník
BEGIN:VTIMEZONE
TZID:Europe/Paris
BEGIN:DAYLIGHT
TZOFFSETFROM:+0100
TZOFFSETTO:+0200
TZNAME:CEST
DTSTART:20180325T010000
END:DAYLIGHT
BEGIN:STANDARD
TZOFFSETFROM:+0200
TZOFFSETTO:+0100
TZNAME:CET
DTSTART:20181028T010000
END:STANDARD
END:VTIMEZONE
BEGIN:VEVENT
DTSTART;TZID=Europe/Paris:20180815T090000
DTEND;TZID=Europe/Paris:20180815T130000
DTSTAMP:20260424T104055
CREATED:20180803T075639Z
LAST-MODIFIED:20180803T085809Z
UID:5840-1534323600-1534338000@zemedelskytydenik.cz
SUMMARY:Den kukuřice KWS 15. 8. 2018 - ZOD  Blata Sedlec
DESCRIPTION:Zveme Vás na akci: \n \n
URL:https://zemedelskytydenik.cz/akce/den-kukurice-kws-15-8-2018-streda-zod-blata-sedlec/
LOCATION:Sedlec\, Sedlec 48\, Sedlec\, 373 47\, Česká republika
CATEGORIES:Rostlinná výroba
END:VEVENT
END:VCALENDAR