BEGIN:VCALENDAR
VERSION:2.0
PRODID:-//Zemědělský týdeník - ECPv5.1.5//NONSGML v1.0//EN
CALSCALE:GREGORIAN
METHOD:PUBLISH
X-WR-CALNAME:Zemědělský týdeník
X-ORIGINAL-URL:https://zemedelskytydenik.cz
X-WR-CALDESC:Akce na Zemědělský týdeník
BEGIN:VTIMEZONE
TZID:Europe/Prague
BEGIN:DAYLIGHT
TZOFFSETFROM:+0100
TZOFFSETTO:+0200
TZNAME:CEST
DTSTART:20210328T010000
END:DAYLIGHT
BEGIN:STANDARD
TZOFFSETFROM:+0200
TZOFFSETTO:+0100
TZNAME:CET
DTSTART:20211031T010000
END:STANDARD
END:VTIMEZONE
BEGIN:VEVENT
DTSTART;TZID=Europe/Prague:20210610T090000
DTEND;TZID=Europe/Prague:20210610T170000
DTSTAMP:20260424T061335
CREATED:20210514T073443Z
LAST-MODIFIED:20210514T073443Z
UID:11089-1623315600-1623344400@zemedelskytydenik.cz
SUMMARY:CELOSTÁTNÍ POLNÍ DEN ÚKZÚZ 2021
DESCRIPTION:pořádaný k 70. výročí vzniku ÚKZÚZ  akce proběhne prezenčně i online ve spolupráci s TV Zemědělec \nCelostátní polní den pořádáme již osmým rokem\, a tradičně se zaměřujeme na aktuální témata zemědělství.  Letos slavíme 70. výročí založení ÚKZÚZ  a naším cílem je tak představit \nnejen aktuální výzvy zemědělského zkušebnictví\, ale připomenout naše dlouholeté zkušenosti ve zkoušení a zejména jeho přínos pro zemědělskou praxi v České republice\, ale i EU.  Představíme Vám odrůdové a výživářské zkušební pokusy -  provázanost výstupů ve vazbě na odrůdy\, výživu a ochranu rostlin.   Zkušební stanice\, kterou jsme pro letošní ročník celostátního polního dne vybrali\, \nje zaměřena jak na zkoušení odrůd běžných polních plodin a ovocných\, tak dlouhodobé pokusy s výživou rostlin. \nTěšíme se na viděnou! \nV případě Vašeho zájmu prosíme o potvrzení Vaší účasti prostřednictvím  registračního formuláře\,  \na to nejpozději do 30. 5. 2021. \nAkce je bez registračního poplatku. Občerstvení zajištěno. \nProgram bude brzy upřesněn! \n
URL:https://zemedelskytydenik.cz/akce/celostatni-polni-den-ukzuz-2021/
LOCATION:Lednice\, Lednice\, Lednice\, Česká republika
CATEGORIES:Rostlinná výroba
END:VEVENT
END:VCALENDAR