BEGIN:VCALENDAR
VERSION:2.0
PRODID:-//Zemědělský týdeník - ECPv5.1.5//NONSGML v1.0//EN
CALSCALE:GREGORIAN
METHOD:PUBLISH
X-WR-CALNAME:Zemědělský týdeník
X-ORIGINAL-URL:https://zemedelskytydenik.cz
X-WR-CALDESC:Akce na Zemědělský týdeník
BEGIN:VTIMEZONE
TZID:Europe/Paris
BEGIN:DAYLIGHT
TZOFFSETFROM:+0100
TZOFFSETTO:+0200
TZNAME:CEST
DTSTART:20180325T010000
END:DAYLIGHT
BEGIN:STANDARD
TZOFFSETFROM:+0200
TZOFFSETTO:+0100
TZNAME:CET
DTSTART:20181028T010000
END:STANDARD
END:VTIMEZONE
BEGIN:VEVENT
DTSTART;VALUE=DATE:20181018
DTEND;VALUE=DATE:20181021
DTSTAMP:20260421T054732
CREATED:20181015T120854Z
LAST-MODIFIED:20181016T122624Z
UID:6154-1539820800-1540079999@zemedelskytydenik.cz
SUMMARY:28. BRAMBORÁŘSKÉ DNY
DESCRIPTION:Český bramborářský svaz vás zve při příležitosti 28. bramborářských dnů v Havlíčkově Brodě na odborný seminář konaný dne 19. října 2018 v Kulturním domě Ostrov. (Na Ostrově 28\, Havl. Brod) a výstavu vzorků odrůd brambor (před KD Ostrov)\n \n  \n\n\nJiž 28. ročník oslav tradiční zemědělské plodiny odstartují 18. října 2018 odborné soutěže studentů středních škol o Bramborový květ Vysočiny a Bramborovou pochoutku Vysočiny.\n\nV pátek 19. října 2018 program pokračuje v Kulturním domě Ostrov\, a to seminářem Brambory 2018\, který je určen nejen pro odborníky\, ale i pro širokou veřejnost. Bude zajištěna výstava vzorků odrůd brambor spojená s ochutnávkou. Vstup na seminář a prohlídku vzorků odrůd brambor je zdarma. Na místě se budou prezentovat také firmy spojené s pěstováním a obchodováním s bramborami.\n\nV sobotu 20. října 2018 bude program pokračovat na Havlíčkově náměstí\, kde bude probíhat drobný prodej konzumních a sadbových brambor\, výrobků z brambor\, prodej ovoce\, zeleniny\, květin\, ryb či potřeb pro pěstitele a zahrádkáře. I zde bude probíhat výstava brambor\, poradenská služba zajištěná poradci z Výzkumného ústavu bramborářského v Havlíčkově Brodě či různé\nsoutěže pro veřejnost. Součástí oslavje i doprovodný kulturní program.\n
URL:https://zemedelskytydenik.cz/akce/28-bramborarske-dny/
LOCATION:Havlíčkův Brod
END:VEVENT
END:VCALENDAR